BEGIN:VCALENDAR
PRODID:-//eluceo/ical//2.0/EN
VERSION:2.0
CALSCALE:GREGORIAN
BEGIN:VEVENT
UID:event-735
DTSTAMP:20260424T164202Z
SUMMARY:De KPMG Audit Grachtenrace
DESCRIPTION:De KPMG Audit Grachtenrace - 13 mei 2026 Ben jij een derdejaars
  bachelorstudent en ben je benieuwd hoe het is om te werken bij KPMG Audit
 ? Dan is dit jouw kans! Stap samen met ons aan boord tijdens de KPMG Audit
  Grachtenrace: hét event waar je KPMG en audit op een compleet andere\, s
 uper interactieve manier leert kennen. KPMG Audit Grachtenrace 2026 Audit 
 saai? Zeker niet! Tijdens de KPMG Audit Grachtenrace 2026 draait alles om 
 samenwerken\, snelheid en slimme keuzes maken. Je gaat met andere studente
 n en een KPMG‑auditor de Amsterdamse grachten op om uitdagende opdrachte
 n te voltooien. Jullie creativiteit\, teamwork en audit-skills worden onde
 rweg flink getest. Na afloop meren we aan bij een groot schip voor een gez
 ellige borrel. Dit is de perfecte kans om onze auditors op een informele m
 anier te ontmoeten\, vragen te stellen over KPMG en samen te proosten op j
 ullie prestatie. Voor wie is dit event? Het event is bedoeld voor WO derde
 jaars bachelorstudenten met een achtergrond in Economie\, Bedrijfseconomie
  of Bedrijfskunde\, of voor studenten die overwegen om over te stappen naa
 r een economische studie. Hoe doe je mee? Je kunt je heel eenvoudig indivi
 dueel aanmelden. Dit is laagdrempelig en een leuke manier om nieuwe mensen
  te leren kennen. Wij stellen verschillende teams samen zodat iedereen in 
 een gemixt en gezellig team terechtkomt. Heb je al een team van minimaal v
 ijf personen\, dan kunnen jullie je ook samen inschrijven. Eventdetails Da
 tum: 13 mei 2026 Tijd: 14:30 Locatie: Amsterdam Vragen? Stuur gerust een b
 ericht naar poggiovoormolen.florine@kpmg.nl Mis dit unieke event niet en m
 eld je snel aan voor de KPMG Audit Grachtenrace. Zet koers richting KPMG e
 n ontdek of audit bij jou past! Meld je aan!
DTSTART:20260513T123000Z
DTEND:20260513T170000Z
END:VEVENT
BEGIN:VTIMEZONE
TZID:UTC
BEGIN:STANDARD
DTSTART:20260513T123000
TZNAME:UTC
TZOFFSETTO:+0000
TZOFFSETFROM:+0000
END:STANDARD
END:VTIMEZONE
END:VCALENDAR
